BEGIN:VCALENDAR
VERSION:2.0
PRODID:-//Oxborough Village Hall - ECPv5.7.0//NONSGML v1.0//EN
CALSCALE:GREGORIAN
METHOD:PUBLISH
X-WR-CALNAME:Oxborough Village Hall
X-ORIGINAL-URL:https://www.oxboroughvillagehall.org.uk
X-WR-CALDESC:Events for Oxborough Village Hall
BEGIN:VTIMEZONE
TZID:Europe/London
BEGIN:DAYLIGHT
TZOFFSETFROM:+0000
TZOFFSETTO:+0100
TZNAME:BST
DTSTART:20220327T010000
END:DAYLIGHT
BEGIN:STANDARD
TZOFFSETFROM:+0100
TZOFFSETTO:+0000
TZNAME:GMT
DTSTART:20221030T010000
END:STANDARD
END:VTIMEZONE
BEGIN:VEVENT
DTSTART;TZID=Europe/London:20220519T193000
DTEND;TZID=Europe/London:20220519T210000
DTSTAMP:20260426T032521
CREATED:20220501T094551Z
LAST-MODIFIED:20220501T094551Z
UID:2319-1652988600-1652994000@www.oxboroughvillagehall.org.uk
SUMMARY:AGM Treasurer's Report
DESCRIPTION:Oxborough Village Hall AGM 19th May 2022 Treasurer’s Report on 2021 Accounts \n\nThe accounts for 2021 are attached. These relate to the period 1st January to 31st December 2021. Accounts have been prepared on a receipts and payments basis.\n\n\nIncome The total income for the year was £24\,480.76. The income included 2 grants received. A Government COVID Grant of £15\,973.14 and a grant of £2\,223 from the Lottery to establish internet at the Village Hall. Activities commenced in May but didn’t get fully started until July/August. Details of the hirers total income of £1\,397 are shown under Note 1 (Page 3). CafeOx was fully operating from Wednesday 19th May producing net income of £1\,118.06. The Quiz continued to be very successful with net income of £752.94. Open Gardens proceeds were shared with St Johns Church and produced net income of £676.29 for the Village Hall. A new source of income from the Breckland lottery produced £445.50.\nExpenditure The total expenditure for the year was £27\,052.24. Premises costs remained at a similar level to 2020. The main item of expenditure was the Ramp\, Patio and Garden Furniture costing £13\,951.78. A grant from FCC Environment of\n\n£10\,036.02 towards the works had been approved but was not received until the following year.The cost on WiFi in 2021 was £1\,587.44. Details of other Equipment and Improvements totalling £6\,195.25 are shown under Note 2 (Page 3). \n\nBalance Sheet The General Fund balance is £3\,474.12 with Restricted items of £810.16 and reserves of £4\,000. This gives a Current Assets total of £8\,284.28 as at 31st December 2021 represented by Bank Accounts and Cash.\nAction The Accounts be Approved\n\nMike Craig\, Treasurer Oxborough Village Hall
URL:https://www.oxboroughvillagehall.org.uk/event/agm-treasurers-report/
LOCATION:The Village Hall\, Swaffham Road\, Oxborough\, Norfolk\, PE33 9QB\, United Kingdom
END:VEVENT
END:VCALENDAR