BEGIN:VCALENDAR
VERSION:2.0
PRODID:-//Oxborough Village Hall - ECPv5.7.0//NONSGML v1.0//EN
CALSCALE:GREGORIAN
METHOD:PUBLISH
X-WR-CALNAME:Oxborough Village Hall
X-ORIGINAL-URL:https://www.oxboroughvillagehall.org.uk
X-WR-CALDESC:Events for Oxborough Village Hall
BEGIN:VTIMEZONE
TZID:Europe/London
BEGIN:DAYLIGHT
TZOFFSETFROM:+0000
TZOFFSETTO:+0100
TZNAME:BST
DTSTART:20220327T010000
END:DAYLIGHT
BEGIN:STANDARD
TZOFFSETFROM:+0100
TZOFFSETTO:+0000
TZNAME:GMT
DTSTART:20221030T010000
END:STANDARD
END:VTIMEZONE
BEGIN:VEVENT
DTSTART;TZID=Europe/London:20221019T110000
DTEND;TZID=Europe/London:20221019T123000
DTSTAMP:20260425T114324
CREATED:20220104T084242Z
LAST-MODIFIED:20221002T133318Z
UID:1710-1666177200-1666182600@www.oxboroughvillagehall.org.uk
SUMMARY:CaféOx - In aid of Breast Cancer Now
DESCRIPTION:Join us to raise funds for BREAST CANCER NOW the research and care charity which supports women and men with breast cancer.\nCafeOx will be bigger with more cakes and a raffle\, timings slightly extended: 11am – 1pm\nPlease come and join us \n 
URL:https://www.oxboroughvillagehall.org.uk/event/cafeox-2022-10-19/
LOCATION:The Village Hall\, Swaffham Road\, Oxborough\, Norfolk\, PE33 9QB\, United Kingdom
END:VEVENT
END:VCALENDAR