BEGIN:VCALENDAR
VERSION:2.0
PRODID:-//Oxborough Village Hall - ECPv5.7.0//NONSGML v1.0//EN
CALSCALE:GREGORIAN
METHOD:PUBLISH
X-WR-CALNAME:Oxborough Village Hall
X-ORIGINAL-URL:https://www.oxboroughvillagehall.org.uk
X-WR-CALDESC:Events for Oxborough Village Hall
BEGIN:VTIMEZONE
TZID:Europe/London
BEGIN:DAYLIGHT
TZOFFSETFROM:+0000
TZOFFSETTO:+0100
TZNAME:BST
DTSTART:20230326T010000
END:DAYLIGHT
BEGIN:STANDARD
TZOFFSETFROM:+0100
TZOFFSETTO:+0000
TZNAME:GMT
DTSTART:20231029T010000
END:STANDARD
END:VTIMEZONE
BEGIN:VEVENT
DTSTART;TZID=Europe/London:20230311T173000
DTEND;TZID=Europe/London:20230311T223000
DTSTAMP:20260425T114143
CREATED:20221101T180613Z
LAST-MODIFIED:20221101T180613Z
UID:2562-1678555800-1678573800@www.oxboroughvillagehall.org.uk
SUMMARY:Clairvoyant Evening
DESCRIPTION:
URL:https://www.oxboroughvillagehall.org.uk/event/clairvoyant-evening/
LOCATION:The Village Hall\, Swaffham Road\, Oxborough\, Norfolk\, PE33 9QB\, United Kingdom
ORGANIZER;CN="Jackie%20Palmer-Hibbert":MAILTO:jackie.palmer2@btinternet.com
END:VEVENT
END:VCALENDAR