BEGIN:VCALENDAR
VERSION:2.0
PRODID:-//Oxborough Village Hall - ECPv5.7.0//NONSGML v1.0//EN
CALSCALE:GREGORIAN
METHOD:PUBLISH
X-WR-CALNAME:Oxborough Village Hall
X-ORIGINAL-URL:https://www.oxboroughvillagehall.org.uk
X-WR-CALDESC:Events for Oxborough Village Hall
BEGIN:VTIMEZONE
TZID:Europe/London
BEGIN:DAYLIGHT
TZOFFSETFROM:+0000
TZOFFSETTO:+0100
TZNAME:BST
DTSTART:20230326T010000
END:DAYLIGHT
BEGIN:STANDARD
TZOFFSETFROM:+0100
TZOFFSETTO:+0000
TZNAME:GMT
DTSTART:20231029T010000
END:STANDARD
END:VTIMEZONE
BEGIN:VEVENT
DTSTART;TZID=Europe/London:20230517T130000
DTEND;TZID=Europe/London:20230517T150000
DTSTAMP:20260426T034309
CREATED:20230517T063201Z
LAST-MODIFIED:20230517T063247Z
UID:3237-1684328400-1684335600@www.oxboroughvillagehall.org.uk
SUMMARY:Craft Club
DESCRIPTION:For crafters of crochet\, knitting\, patchwork\, card making\, felting\, drawing/painting ( and others) to come along with their latest project and enjoy crafting and chatting with each other. \nPerhaps some may be willing to share their skills or maybe learn new crafts from others! \n£3 to cover hall hire & refreshments.
URL:https://www.oxboroughvillagehall.org.uk/event/craft-club-2/2023-05-17/
LOCATION:The Village Hall\, Swaffham Road\, Oxborough\, Norfolk\, PE33 9QB\, United Kingdom
END:VEVENT
END:VCALENDAR