BEGIN:VCALENDAR
VERSION:2.0
PRODID:-//Oxborough Village Hall - ECPv5.7.0//NONSGML v1.0//EN
CALSCALE:GREGORIAN
METHOD:PUBLISH
X-WR-CALNAME:Oxborough Village Hall
X-ORIGINAL-URL:https://www.oxboroughvillagehall.org.uk
X-WR-CALDESC:Events for Oxborough Village Hall
BEGIN:VTIMEZONE
TZID:Europe/London
BEGIN:DAYLIGHT
TZOFFSETFROM:+0000
TZOFFSETTO:+0100
TZNAME:BST
DTSTART:20220327T010000
END:DAYLIGHT
BEGIN:STANDARD
TZOFFSETFROM:+0100
TZOFFSETTO:+0000
TZNAME:GMT
DTSTART:20221030T010000
END:STANDARD
END:VTIMEZONE
BEGIN:VEVENT
DTSTART;TZID=Europe/London:20220618T110000
DTEND;TZID=Europe/London:20220619T160000
DTSTAMP:20260425T141433
CREATED:20220421T172854Z
LAST-MODIFIED:20220421T172854Z
UID:2256-1655550000-1655654400@www.oxboroughvillagehall.org.uk
SUMMARY:Open Gardens
DESCRIPTION:Enjoy visiting gardens in Oxborough\, with free parking on the village green and refreshments available on both days at the Village Hall
URL:https://www.oxboroughvillagehall.org.uk/event/open-gardens/
LOCATION:The Village Hall\, Swaffham Road\, Oxborough\, Norfolk\, PE33 9QB\, United Kingdom
END:VEVENT
END:VCALENDAR