BEGIN:VCALENDAR
VERSION:2.0
PRODID:-//Oxborough Village Hall - ECPv5.7.0//NONSGML v1.0//EN
CALSCALE:GREGORIAN
METHOD:PUBLISH
X-WR-CALNAME:Oxborough Village Hall
X-ORIGINAL-URL:https://www.oxboroughvillagehall.org.uk
X-WR-CALDESC:Events for Oxborough Village Hall
BEGIN:VTIMEZONE
TZID:Europe/London
BEGIN:DAYLIGHT
TZOFFSETFROM:+0000
TZOFFSETTO:+0100
TZNAME:BST
DTSTART:20220327T010000
END:DAYLIGHT
BEGIN:STANDARD
TZOFFSETFROM:+0100
TZOFFSETTO:+0000
TZNAME:GMT
DTSTART:20221030T010000
END:STANDARD
END:VTIMEZONE
BEGIN:VEVENT
DTSTART;TZID=Europe/London:20220316T193000
DTEND;TZID=Europe/London:20220316T213000
DTSTAMP:20260425T152538
CREATED:20220303T084940Z
LAST-MODIFIED:20220303T084940Z
UID:2102-1647459000-1647466200@www.oxboroughvillagehall.org.uk
SUMMARY:Parish Council Meeting
DESCRIPTION:The Public and Press are cordially invited to be present
URL:https://www.oxboroughvillagehall.org.uk/event/parish-council-meeting-2/
LOCATION:The Village Hall\, Swaffham Road\, Oxborough\, Norfolk\, PE33 9QB\, United Kingdom
ORGANIZER;CN="Parish%20Council":MAILTO:oxboroughPC@hotmail.com
END:VEVENT
END:VCALENDAR