BEGIN:VCALENDAR
VERSION:2.0
PRODID:-//Oxborough Village Hall - ECPv5.7.0//NONSGML v1.0//EN
CALSCALE:GREGORIAN
METHOD:PUBLISH
X-WR-CALNAME:Oxborough Village Hall
X-ORIGINAL-URL:https://www.oxboroughvillagehall.org.uk
X-WR-CALDESC:Events for Oxborough Village Hall
BEGIN:VTIMEZONE
TZID:Europe/London
BEGIN:DAYLIGHT
TZOFFSETFROM:+0000
TZOFFSETTO:+0100
TZNAME:BST
DTSTART:20250330T010000
END:DAYLIGHT
BEGIN:STANDARD
TZOFFSETFROM:+0100
TZOFFSETTO:+0000
TZNAME:GMT
DTSTART:20251026T010000
END:STANDARD
END:VTIMEZONE
BEGIN:VEVENT
DTSTART;TZID=Europe/London:20251126T193000
DTEND;TZID=Europe/London:20251126T220000
DTSTAMP:20260422T154455
CREATED:20250924T083920Z
LAST-MODIFIED:20250924T083958Z
UID:4921-1764185400-1764194400@www.oxboroughvillagehall.org.uk
SUMMARY:Quiz Night
DESCRIPTION:Entry £4 per person\, charge includes nibble. Just turn up – with or without a team- join one on arrival!
URL:https://www.oxboroughvillagehall.org.uk/event/quiz-night-39/
LOCATION:The Village Hall\, Swaffham Road\, Oxborough\, Norfolk\, PE33 9QB\, United Kingdom
END:VEVENT
END:VCALENDAR