BEGIN:VCALENDAR
VERSION:2.0
PRODID:-//Oxborough Village Hall - ECPv5.7.0//NONSGML v1.0//EN
CALSCALE:GREGORIAN
METHOD:PUBLISH
X-WR-CALNAME:Oxborough Village Hall
X-ORIGINAL-URL:https://www.oxboroughvillagehall.org.uk
X-WR-CALDESC:Events for Oxborough Village Hall
BEGIN:VTIMEZONE
TZID:Europe/London
BEGIN:DAYLIGHT
TZOFFSETFROM:+0000
TZOFFSETTO:+0100
TZNAME:BST
DTSTART:20220327T010000
END:DAYLIGHT
BEGIN:STANDARD
TZOFFSETFROM:+0100
TZOFFSETTO:+0000
TZNAME:GMT
DTSTART:20221030T010000
END:STANDARD
END:VTIMEZONE
BEGIN:VEVENT
DTSTART;TZID=Europe/London:20220603T120000
DTEND;TZID=Europe/London:20220603T160000
DTSTAMP:20260425T134240
CREATED:20220421T173441Z
LAST-MODIFIED:20220421T173441Z
UID:2262-1654257600-1654272000@www.oxboroughvillagehall.org.uk
SUMMARY:The Queen's Platinum Jubilee  Picnic & Live Music Oxborough  Village Green
DESCRIPTION:All villagers are invited to come along\, bring your own blankets and picnics to enjoy as a community gathered to mark the Queen’s Platinum Jubilee. There will (hopefully) be an ice-cream van\, and we will have home-made tray bakes\, decorated with a Jubilee theme\, which will have been made by a number of willing Oxborough Coffee Morning bakers and donated for everyone to enjoy. There will be live music \, a local jazz band\, playing old time favourites such as Summertime\,  suitable for younger children and older folks alike. There will be a competition\, where the  children will be asked to make a Royal Crown for wearing on the day\, incorporating recycled household items\, to promote sustainability\, with every child receiving a prize of a biodegradable helium balloon. \nEVERYONE IS WELCOME!
URL:https://www.oxboroughvillagehall.org.uk/event/the-queens-platinum-jubilee-picnic-live-music-oxborough-village-green/
LOCATION:The Village Green
END:VEVENT
END:VCALENDAR