BEGIN:VCALENDAR
VERSION:2.0
PRODID:-//Oxborough Village Hall - ECPv5.7.0//NONSGML v1.0//EN
CALSCALE:GREGORIAN
METHOD:PUBLISH
X-WR-CALNAME:Oxborough Village Hall
X-ORIGINAL-URL:https://www.oxboroughvillagehall.org.uk
X-WR-CALDESC:Events for Oxborough Village Hall
BEGIN:VTIMEZONE
TZID:Europe/London
BEGIN:DAYLIGHT
TZOFFSETFROM:+0000
TZOFFSETTO:+0100
TZNAME:BST
DTSTART:20220327T010000
END:DAYLIGHT
BEGIN:STANDARD
TZOFFSETFROM:+0100
TZOFFSETTO:+0000
TZNAME:GMT
DTSTART:20221030T010000
END:STANDARD
END:VTIMEZONE
BEGIN:VEVENT
DTSTART;TZID=Europe/London:20220709T103000
DTEND;TZID=Europe/London:20220709T113000
DTSTAMP:20260425T152730
CREATED:20220509T070003Z
LAST-MODIFIED:20220509T070121Z
UID:2344-1657362600-1657366200@www.oxboroughvillagehall.org.uk
SUMMARY:Relax Kids Class
DESCRIPTION:Independent Family Support Practitioner
URL:https://www.oxboroughvillagehall.org.uk/event/relax-kids-class-6/
LOCATION:The Village Hall\, Swaffham Road\, Oxborough\, Norfolk\, PE33 9QB\, United Kingdom
END:VEVENT
BEGIN:VEVENT
DTSTART;TZID=Europe/London:20220702T103000
DTEND;TZID=Europe/London:20220702T113000
DTSTAMP:20260425T152730
CREATED:20220509T065929Z
LAST-MODIFIED:20220509T070203Z
UID:2342-1656757800-1656761400@www.oxboroughvillagehall.org.uk
SUMMARY:Relax Kids Class
DESCRIPTION:Independent Family Support Practitioner
URL:https://www.oxboroughvillagehall.org.uk/event/relax-kids-class-5/
LOCATION:The Village Hall\, Swaffham Road\, Oxborough\, Norfolk\, PE33 9QB\, United Kingdom
END:VEVENT
BEGIN:VEVENT
DTSTART;TZID=Europe/London:20220625T103000
DTEND;TZID=Europe/London:20220625T113000
DTSTAMP:20260425T152730
CREATED:20220509T065900Z
LAST-MODIFIED:20220509T070237Z
UID:2339-1656153000-1656156600@www.oxboroughvillagehall.org.uk
SUMMARY:Relax Kids Class
DESCRIPTION:Independent Family Support Practitioner
URL:https://www.oxboroughvillagehall.org.uk/event/relax-kids-class-4/
LOCATION:The Village Hall\, Swaffham Road\, Oxborough\, Norfolk\, PE33 9QB\, United Kingdom
END:VEVENT
BEGIN:VEVENT
DTSTART;TZID=Europe/London:20220611T103000
DTEND;TZID=Europe/London:20220611T113000
DTSTAMP:20260425T152730
CREATED:20220509T065828Z
LAST-MODIFIED:20220509T070307Z
UID:2336-1654943400-1654947000@www.oxboroughvillagehall.org.uk
SUMMARY:Relax Kids Class
DESCRIPTION:Independent Family Support Practitioner
URL:https://www.oxboroughvillagehall.org.uk/event/relax-kids-class-3/
LOCATION:The Village Hall\, Swaffham Road\, Oxborough\, Norfolk\, PE33 9QB\, United Kingdom
END:VEVENT
BEGIN:VEVENT
DTSTART;TZID=Europe/London:20220604T103000
DTEND;TZID=Europe/London:20220604T113000
DTSTAMP:20260425T152730
CREATED:20220509T065756Z
LAST-MODIFIED:20220509T070333Z
UID:2333-1654338600-1654342200@www.oxboroughvillagehall.org.uk
SUMMARY:Relax Kids Class
DESCRIPTION:Independent Family Support Practitioner
URL:https://www.oxboroughvillagehall.org.uk/event/relax-kids-class-2/
LOCATION:The Village Hall\, Swaffham Road\, Oxborough\, Norfolk\, PE33 9QB\, United Kingdom
END:VEVENT
BEGIN:VEVENT
DTSTART;TZID=Europe/London:20220528T103000
DTEND;TZID=Europe/London:20220528T113000
DTSTAMP:20260425T152730
CREATED:20220509T065717Z
LAST-MODIFIED:20220509T070356Z
UID:2330-1653733800-1653737400@www.oxboroughvillagehall.org.uk
SUMMARY:Relax Kids Class
DESCRIPTION:Independent Family Support Practitioner
URL:https://www.oxboroughvillagehall.org.uk/event/relax-kids-class/
LOCATION:The Village Hall\, Swaffham Road\, Oxborough\, Norfolk\, PE33 9QB\, United Kingdom
END:VEVENT
END:VCALENDAR